BEGIN:VCALENDAR
VERSION:2.0
PRODID:-//ChamberMaster//Event Calendar 2.0//EN
METHOD:PUBLISH
X-PUBLISHED-TTL:P1H
REFRESH-INTERVAL:P1H
CALSCALE:GREGORIAN
BEGIN:VTIMEZONE
TZID:America/New_York
BEGIN:DAYLIGHT
RRULE:FREQ=YEARLY;BYMONTH=3;BYDAY=2SU
DTSTART:20070101T000000
TZOFFSETFROM:-0500
TZOFFSETTO:-0400
TZNAME:Eastern Daylight Time
END:DAYLIGHT
BEGIN:STANDARD
RRULE:FREQ=YEARLY;BYMONTH=11;BYDAY=1SU
DTSTART:20070101T000000
TZOFFSETFROM:-0400
TZOFFSETTO:-0500
TZNAME:Eastern Standard Time
END:STANDARD
END:VTIMEZONE
BEGIN:VEVENT
DTSTART;TZID=America/New_York:20260425T080000
DTEND;TZID=America/New_York:20260425T110000
X-MICROSOFT-CDO-ALLDAYEVENT:FALSE
SUMMARY:YMCA Community Yard Sale
DESCRIPTION:From unexpected treasures to friendly faces\, our Community Yard Sale is where connection meets purpose. Your purchases help ensure that individuals and families in our community can access the Y’s life changing programs through financial assistance. Shop with heart and be part of something bigger.
X-ALT-DESC;FMTTYPE=text/html:From unexpected treasures to friendly faces\, our Community Yard Sale is where connection meets purpose. Your purchases help ensure that individuals and families in our community can access the Y’s life changing programs through financial assistance. Shop with heart and be part of something bigger.
LOCATION:165 Isaac G LaRoche Drive Pooler GA 31322
UID:e.3164.1435408
SEQUENCE:3
DTSTAMP:20260421T062025Z
URL:https://members.poolerchamber.com/eventcalendar/Details/ymca-community-yard-sale-1699117?sourceTypeId=Hub
END:VEVENT
END:VCALENDAR
