BEGIN:VCALENDAR
VERSION:2.0
PRODID:-//ChamberMaster//Event Calendar 2.0//EN
METHOD:PUBLISH
X-PUBLISHED-TTL:P1H
REFRESH-INTERVAL:P1H
CALSCALE:GREGORIAN
BEGIN:VTIMEZONE
TZID:America/New_York
BEGIN:DAYLIGHT
RRULE:FREQ=YEARLY;BYMONTH=3;BYDAY=2SU
DTSTART:20070101T000000
TZOFFSETFROM:-0500
TZOFFSETTO:-0400
TZNAME:Eastern Daylight Time
END:DAYLIGHT
BEGIN:STANDARD
RRULE:FREQ=YEARLY;BYMONTH=11;BYDAY=1SU
DTSTART:20070101T000000
TZOFFSETFROM:-0400
TZOFFSETTO:-0500
TZNAME:Eastern Standard Time
END:STANDARD
END:VTIMEZONE
BEGIN:VEVENT
DTSTART;VALUE=DATE:20260409
DTEND;VALUE=DATE:20260410
TRANSP:TRANSPARENT
X-MICROSOFT-CDO-ALLDAYEVENT:TRUE
SUMMARY:Taste of Savannah Restaurant Raffle
DESCRIPTION:Get ready to eat your way through Savannah's best restaurants   all while supporting an amazing cause!\n1 GRAND PRIZE: $1\,000 in gift cards\n3 Lucky Winners\n3 Prize Levels = More chances to win!\nTickets:\n$25 = 1 ticket\n$100 = 5 tickets\nPlease note: We do NOT accept cash. All entries must be purchased electronically. Don't miss your chance to win BIG and experience the best flavors of Savannah!\nWinner announced May 1st at Savannah's Got Talent! You do not have to be present at Savannah's Got Talent to win.\nGrab your tickets now: Taste of Savannah Raffle
X-ALT-DESC;FMTTYPE=text/html:<!DOCTYPE html><html><head><title></title></head><body aria-disabled="false"><p><meta charset="utf-8"></p><p>Get ready to eat your way through Savannah&rsquo\;s best restaurants &mdash\; all while supporting an amazing cause!</p><p><br></p><p><strong fr-original-style="" style="font-weight: 700\;">1 GRAND PRIZE:</strong>&nbsp\;$1\,000 in gift cards<br><strong fr-original-style="" style="font-weight: 700\;">3 Lucky Winners</strong><br><strong fr-original-style="" style="font-weight: 700\;">3 Prize Levels = More chances to win!</strong></p><p><br></p><p><strong fr-original-style="" style="font-weight: 700\;">Tickets:</strong><br>$25 = 1 ticket<br>$100 = 5 tickets</p><p><br></p><p><em>Please note: We do NOT accept cash. All entries must be purchased electronically.&nbsp\;</em>Don&rsquo\;t miss your chance to win BIG and experience the best flavors of Savannah!</p><p><br></p><p>Winner announced May 1st at Savannah&#39\;s Got Talent! You do not have to be present at Savannah&#39\;s Got Talent to win.</p><p><br></p><p>Grab your tickets now: <a fr-original-style="" href="https://funraise.org/give/Brightside-Advocacy/aea9eeb4-a279-4651-be34-53caff8041f6" rel="noopener noreferrer" style="user-select: auto\;" target="_blank">Taste of Savannah Raffle</a></p></body></html>
LOCATION:761 Wheaton St Savannah GA 31401
UID:e.3164.1440250
SEQUENCE:3
DTSTAMP:20260421T062321Z
URL:https://members.poolerchamber.com/eventcalendar/Details/taste-of-savannah-restaurant-raffle-1704943?sourceTypeId=Hub
END:VEVENT
END:VCALENDAR
