BEGIN:VCALENDAR
VERSION:2.0
PRODID:-//ChamberMaster//Event Calendar 2.0//EN
METHOD:PUBLISH
X-PUBLISHED-TTL:P1H
REFRESH-INTERVAL:P1H
CALSCALE:GREGORIAN
BEGIN:VTIMEZONE
TZID:America/New_York
BEGIN:DAYLIGHT
RRULE:FREQ=YEARLY;BYMONTH=3;BYDAY=2SU
DTSTART:20070101T000000
TZOFFSETFROM:-0500
TZOFFSETTO:-0400
TZNAME:Eastern Daylight Time
END:DAYLIGHT
BEGIN:STANDARD
RRULE:FREQ=YEARLY;BYMONTH=11;BYDAY=1SU
DTSTART:20070101T000000
TZOFFSETFROM:-0400
TZOFFSETTO:-0500
TZNAME:Eastern Standard Time
END:STANDARD
END:VTIMEZONE
BEGIN:VEVENT
DTSTART;TZID=America/New_York:20260501T183000
DTEND;TZID=America/New_York:20260501T203000
X-MICROSOFT-CDO-ALLDAYEVENT:FALSE
SUMMARY:Savannah's Got Talent
DESCRIPTION:Savannah's Got Talent is Brightside's signature annual fundraiser\, bringing together community members\, local leaders\, and supporters for an inspiring evening of entertainment and philanthropy. Held May 1st at Victory North in Savannah\, this high-energy event showcases incredible local talent while raising critical funds to advocate for children in foster care. It's a night where passion meets purpose   and every performance helps create brighter futures.\n*Event brought to you by a member partner.
X-ALT-DESC;FMTTYPE=text/html:<!DOCTYPE html><html><head><title></title></head><body aria-disabled="false"><p><meta charset="utf-8">Savannah&rsquo\;s Got Talent is Brightside&rsquo\;s signature annual fundraiser\, bringing together community members\, local leaders\, and supporters for an inspiring evening of entertainment and philanthropy. Held May 1st at Victory North in Savannah\, this high-energy event showcases incredible local talent while raising critical funds to advocate for children in foster care. It&rsquo\;s a night where passion meets purpose &mdash\; and every performance helps create brighter futures.</p><p><br></p><p>*Event brought to you by a member partner.&nbsp\;</p></body></html>
LOCATION:2603 Whitaker St Savannah GA 31401
UID:e.3164.1398495
SEQUENCE:3
DTSTAMP:20260421T062025Z
URL:https://members.poolerchamber.com/eventcalendar/Details/savannah-s-got-talent-1652357?sourceTypeId=Hub
END:VEVENT
END:VCALENDAR
