BEGIN:VCALENDAR
VERSION:2.0
PRODID:-//ChamberMaster//Event Calendar 2.0//EN
METHOD:PUBLISH
X-PUBLISHED-TTL:P1H
REFRESH-INTERVAL:P1H
CALSCALE:GREGORIAN
BEGIN:VTIMEZONE
TZID:America/New_York
BEGIN:DAYLIGHT
RRULE:FREQ=YEARLY;BYMONTH=3;BYDAY=2SU
DTSTART:20070101T000000
TZOFFSETFROM:-0500
TZOFFSETTO:-0400
TZNAME:Eastern Daylight Time
END:DAYLIGHT
BEGIN:STANDARD
RRULE:FREQ=YEARLY;BYMONTH=11;BYDAY=1SU
DTSTART:20070101T000000
TZOFFSETFROM:-0400
TZOFFSETTO:-0500
TZNAME:Eastern Standard Time
END:STANDARD
END:VTIMEZONE
BEGIN:VEVENT
DTSTART;TZID=America/New_York:20260422T090000
DTEND;TZID=America/New_York:20260422T103000
X-MICROSOFT-CDO-ALLDAYEVENT:FALSE
SUMMARY:April Investor Tour
DESCRIPTION:The Chamber's Investor Tour is an exclusive\, behind-the-scenes experience for top Investor Members\, offering access to prominent local businesses not usually open to the public. This quarterly experience is designed to deepen relationships\, strengthen connections\, and create meaningful engagement among our highest-level members. In an intimate\, curated setting\, participants gain an insider's perspective on local operations\, community impact\, and the role these organizations play in shaping our region's growth.
X-ALT-DESC;FMTTYPE=text/html:<!DOCTYPE html><html><head><title></title></head><body aria-disabled="false"><p><span style="color: rgb(0\, 0\, 0)\; font-family: Arial\, Verdana\, Helvetica\, sans-serif\; font-size: 14px\; font-style: normal\; font-variant-ligatures: normal\; font-variant-caps: normal\; font-weight: 400\; letter-spacing: normal\; orphans: 2\; text-align: left\; text-indent: 0px\; text-transform: none\; widows: 2\; word-spacing: 0px\; -webkit-text-stroke-width: 0px\; white-space: pre-wrap\; background-color: rgb(255\, 255\, 255)\; text-decoration-thickness: initial\; text-decoration-style: initial\; text-decoration-color: initial\; display: inline !important\; float: none\;">The Chamber&rsquo\;s Investor Tour is an exclusive\, behind-the-scenes experience for top Investor Members\, offering access to prominent local businesses not usually open to the public. This quarterly experience is designed to deepen relationships\, strengthen connections\, and create meaningful engagement among our highest-level members. In an intimate\, curated setting\, participants gain an insider&rsquo\;s perspective on local operations\, community impact\, and the role these organizations play in shaping our region&rsquo\;s growth.</span> </p></body></html>
LOCATION:468 Meinhard Road Port Wentworth GA 31407
UID:e.3164.1436749
SEQUENCE:3
DTSTAMP:20260421T062138Z
URL:https://members.poolerchamber.com/eventcalendar/Details/april-investor-tour-1700773?sourceTypeId=Hub
END:VEVENT
END:VCALENDAR
